BEGIN:VCALENDAR
VERSION:2.0
PRODID:-//Arts Council of Princeton - ECPv6.15.18//NONSGML v1.0//EN
CALSCALE:GREGORIAN
METHOD:PUBLISH
X-WR-CALNAME:Arts Council of Princeton
X-ORIGINAL-URL:https://artscouncilofprinceton.org
X-WR-CALDESC:Events for Arts Council of Princeton
REFRESH-INTERVAL;VALUE=DURATION:PT1H
X-Robots-Tag:noindex
X-PUBLISHED-TTL:PT1H
BEGIN:VTIMEZONE
TZID:America/New_York
BEGIN:DAYLIGHT
TZOFFSETFROM:-0500
TZOFFSETTO:-0400
TZNAME:EDT
DTSTART:20250309T070000
END:DAYLIGHT
BEGIN:STANDARD
TZOFFSETFROM:-0400
TZOFFSETTO:-0500
TZNAME:EST
DTSTART:20251102T060000
END:STANDARD
BEGIN:DAYLIGHT
TZOFFSETFROM:-0500
TZOFFSETTO:-0400
TZNAME:EDT
DTSTART:20260308T070000
END:DAYLIGHT
BEGIN:STANDARD
TZOFFSETFROM:-0400
TZOFFSETTO:-0500
TZNAME:EST
DTSTART:20261101T060000
END:STANDARD
BEGIN:DAYLIGHT
TZOFFSETFROM:-0500
TZOFFSETTO:-0400
TZNAME:EDT
DTSTART:20270314T070000
END:DAYLIGHT
BEGIN:STANDARD
TZOFFSETFROM:-0400
TZOFFSETTO:-0500
TZNAME:EST
DTSTART:20271107T060000
END:STANDARD
END:VTIMEZONE
BEGIN:VEVENT
DTSTART;TZID=America/New_York:20260628T100000
DTEND;TZID=America/New_York:20260628T180000
DTSTAMP:20260419T205423
CREATED:20260403T003903Z
LAST-MODIFIED:20260419T151453Z
UID:10002544-1782640800-1782669600@artscouncilofprinceton.org
SUMMARY:Princeton Yoga Fest 2026
DESCRIPTION:Princeton Yoga Fest brings together people of all ages and backgrounds to experience the unifying power of yoga. \nOur third-annual event offers a powerful lineup of classes\, vendors\, and the much-anticipated return of the Silent Disco Flow. This celebration of movement\, mindfulness\, and community is held in partnership with lululemon. \nThe morning session is held on Hinds Plaza\, a public square located outside the Princeton Public Library. The later classes\, as well as the Mindfulness Market\, are held at the Arts Council of Princeton at 102 Witherspoon Street\, Princeton. \n10am-11am: Community Yoga on Hinds Plaza (free) led by instructor Jen Stewart. \n11am-4pm: Explore our Mindfulness Market\, a one-stop shop for vendors working in self-care\, beauty\, wellness\, accessories\, and food and beverage. Learn about applying as a vendor. \n3-4pm: Bring the gang for Family Yoga ($10). This beginner-friendly\, gentle class is great for all ages and abilities with inclusion for individuals with special needs and/or physical\, intellectual\, and developmental disabilities. \n4:30-6pm: The grand finale — at the Silent Disco Flow ($65)\, music transmitted through wireless headphones allows for a unique and personalized experience. Attendees of this class will receive an Everywhere Belt Bag from lululemon\, valued at $38. End the day with our Closing Meditation\, featuring live Ney instrumentals. \n								\n									all tickets + registration\n					 \nProceeds benefit the Arts Council of Princeton\, a 501c3 nonprofit. ACP has been serving the Princeton region for almost 60 years\, founded on the belief that the arts are essential to a healthy and happy society. Thank you for recognizing our ability to uplift spirits\, embrace joy\, and create real change\, right here at home.
URL:https://artscouncilofprinceton.org/event/princeton-yoga-fest-2026/
LOCATION:Arts Council of Princeton\, Princeton\, NJ
CATEGORIES:Community,Events & Performances,Featured Events
ATTACH;FMTTYPE=image/png:https://artscouncilofprinceton.org/wp-content/uploads/2026/04/Princeton-Yoga-Fest.png
END:VEVENT
END:VCALENDAR