BEGIN:VCALENDAR
VERSION:2.0
PRODID:-//Arts Council of Princeton - ECPv6.15.18//NONSGML v1.0//EN
CALSCALE:GREGORIAN
METHOD:PUBLISH
X-ORIGINAL-URL:https://artscouncilofprinceton.org
X-WR-CALDESC:Events for Arts Council of Princeton
REFRESH-INTERVAL;VALUE=DURATION:PT1H
X-Robots-Tag:noindex
X-PUBLISHED-TTL:PT1H
BEGIN:VTIMEZONE
TZID:America/New_York
BEGIN:DAYLIGHT
TZOFFSETFROM:-0500
TZOFFSETTO:-0400
TZNAME:EDT
DTSTART:20250309T070000
END:DAYLIGHT
BEGIN:STANDARD
TZOFFSETFROM:-0400
TZOFFSETTO:-0500
TZNAME:EST
DTSTART:20251102T060000
END:STANDARD
BEGIN:DAYLIGHT
TZOFFSETFROM:-0500
TZOFFSETTO:-0400
TZNAME:EDT
DTSTART:20260308T070000
END:DAYLIGHT
BEGIN:STANDARD
TZOFFSETFROM:-0400
TZOFFSETTO:-0500
TZNAME:EST
DTSTART:20261101T060000
END:STANDARD
BEGIN:DAYLIGHT
TZOFFSETFROM:-0500
TZOFFSETTO:-0400
TZNAME:EDT
DTSTART:20270314T070000
END:DAYLIGHT
BEGIN:STANDARD
TZOFFSETFROM:-0400
TZOFFSETTO:-0500
TZNAME:EST
DTSTART:20271107T060000
END:STANDARD
END:VTIMEZONE
BEGIN:VEVENT
DTSTART;TZID=America/New_York:20260411T173000
DTEND;TZID=America/New_York:20260411T210000
DTSTAMP:20260420T123010
CREATED:20260304T151605Z
LAST-MODIFIED:20260413T174743Z
UID:10002526-1775928600-1775941200@artscouncilofprinceton.org
SUMMARY:Samba Saturday!
DESCRIPTION:Princeton’s only roda de samba! \nWhat began as backyard jam sessions among friends has grown into a joyful community gathering. Samb’in Princeton is Princeton’s first roda de samba\, where musicians play around a shared table and everyone is invited to sing\, clap\, dance\, and celebrate together. \nJoin us at the Arts Council to experience the rhythm\, warmth\, and spirit of samba — no musical experience needed\, just bring your energy and enjoy! \n\nsave your space\n \nWe’ll be hosting a tasting of Brazilian sweets\, but please feel free to bring whatever food or drinks you’d like to enjoy throughout the evening. Any food and drinks\, alcoholic or non-alcoholic\, are more than welcome. We’ll have tables set up so everyone can get comfortably settled\, but rest assured: there will be plenty of space to hit the dance floor and samba the night away! \nVai rolar uma degustação de doces brasileiros\, mas fiquem à vontade para trazer o que quiserem para comer ou beber durante a noite. Comidas e bebidas (com ou sem álcool) são super bem-vindas! Teremos mesas para todo mundo se acomodar direitinho\, mas fiquem tranquilos: vai ter muito espaço para cair no samba.
URL:https://artscouncilofprinceton.org/event/samba-saturday/
LOCATION:Arts Council of Princeton\, Princeton\, NJ
CATEGORIES:Community,Events & Performances,Free or Low Cost
ATTACH;FMTTYPE=image/jpeg:https://artscouncilofprinceton.org/wp-content/uploads/2026/03/Web-banner_Samba.jpg
END:VEVENT
END:VCALENDAR