BEGIN:VCALENDAR
VERSION:2.0
PRODID:-//Arts Council of Princeton - ECPv6.15.18//NONSGML v1.0//EN
CALSCALE:GREGORIAN
METHOD:PUBLISH
X-WR-CALNAME:Arts Council of Princeton
X-ORIGINAL-URL:https://artscouncilofprinceton.org
X-WR-CALDESC:Events for Arts Council of Princeton
REFRESH-INTERVAL;VALUE=DURATION:PT1H
X-Robots-Tag:noindex
X-PUBLISHED-TTL:PT1H
BEGIN:VTIMEZONE
TZID:America/New_York
BEGIN:DAYLIGHT
TZOFFSETFROM:-0500
TZOFFSETTO:-0400
TZNAME:EDT
DTSTART:20250309T070000
END:DAYLIGHT
BEGIN:STANDARD
TZOFFSETFROM:-0400
TZOFFSETTO:-0500
TZNAME:EST
DTSTART:20251102T060000
END:STANDARD
BEGIN:DAYLIGHT
TZOFFSETFROM:-0500
TZOFFSETTO:-0400
TZNAME:EDT
DTSTART:20260308T070000
END:DAYLIGHT
BEGIN:STANDARD
TZOFFSETFROM:-0400
TZOFFSETTO:-0500
TZNAME:EST
DTSTART:20261101T060000
END:STANDARD
BEGIN:DAYLIGHT
TZOFFSETFROM:-0500
TZOFFSETTO:-0400
TZNAME:EDT
DTSTART:20270314T070000
END:DAYLIGHT
BEGIN:STANDARD
TZOFFSETFROM:-0400
TZOFFSETTO:-0500
TZNAME:EST
DTSTART:20271107T060000
END:STANDARD
END:VTIMEZONE
BEGIN:VEVENT
DTSTART;TZID=America/New_York:20260205T200000
DTEND;TZID=America/New_York:20260205T210000
DTSTAMP:20260422T233130
CREATED:20260122T163745Z
LAST-MODIFIED:20260122T163955Z
UID:10002492-1770321600-1770325200@artscouncilofprinceton.org
SUMMARY:Free Virtual Art Making with Princeton University: Colored Pencils
DESCRIPTION:DIY your own scented hand lotion. Have you ever turned over a bottle of lotion and wondered what all those ingredients actually do — or mean? In this immersive\, hands-on workshop\, Kaya Selfcare brings the lab to you. You’ll leave with a 4oz bottle of lotion you made yourself\, the science to understand what’s in it\, and the knowledge to shop smarter for your skin. What you’ll learn: The lotion making process from raw ingredients to finished product — step by step\, with your own handsUnderstand the role of every ingredient — oils\, waters\, emulsifiers\, and more — and why each one mattersExplore emulsions\, pH balance\, and how stability and preservation keep your lotion safe and effectivePersonalize your creation by learning how to formulate your own unique fragrance with essential oilsWalk away with practical guidance on how and when to use lotion — and how to read labels like a proThis workshop is designed for everyone — no prior experience required. Whether you’re a skincare enthusiast\, a curious beginner\, or someone who simply wants to feel more informed about the products they use every day\, you’ll find this session practical\, empowering\, and a lot of fun. 								\n				\n										\n						\n									SAVE YOUR SPOT
URL:https://artscouncilofprinceton.org/event/free-virtual-art-making-with-princeton-university-feb26-1/
LOCATION:Arts Council of Princeton\, Princeton\, NJ
CATEGORIES:Free or Low Cost,Workshops
ATTACH;FMTTYPE=image/webp:https://artscouncilofprinceton.org/wp-content/uploads/2026/01/default.webp
END:VEVENT
BEGIN:VEVENT
DTSTART;TZID=America/New_York:20260206T180000
DTEND;TZID=America/New_York:20260206T200000
DTSTAMP:20260422T233130
CREATED:20251205T194540Z
LAST-MODIFIED:20251205T194643Z
UID:10002434-1770400800-1770408000@artscouncilofprinceton.org
SUMMARY:ACP BYOB: Wheel Ceramics
DESCRIPTION:DIY your own scented hand lotion. Have you ever turned over a bottle of lotion and wondered what all those ingredients actually do — or mean? In this immersive\, hands-on workshop\, Kaya Selfcare brings the lab to you. You’ll leave with a 4oz bottle of lotion you made yourself\, the science to understand what’s in it\, and the knowledge to shop smarter for your skin. What you’ll learn: The lotion making process from raw ingredients to finished product — step by step\, with your own handsUnderstand the role of every ingredient — oils\, waters\, emulsifiers\, and more — and why each one mattersExplore emulsions\, pH balance\, and how stability and preservation keep your lotion safe and effectivePersonalize your creation by learning how to formulate your own unique fragrance with essential oilsWalk away with practical guidance on how and when to use lotion — and how to read labels like a proThis workshop is designed for everyone — no prior experience required. Whether you’re a skincare enthusiast\, a curious beginner\, or someone who simply wants to feel more informed about the products they use every day\, you’ll find this session practical\, empowering\, and a lot of fun. 								\n				\n										\n						\n									SAVE YOUR SPOT
URL:https://artscouncilofprinceton.org/event/acp-byob-wheel-ceramics-feb26/
LOCATION:Arts Council of Princeton\, Princeton\, NJ
CATEGORIES:Workshops
ATTACH;FMTTYPE=image/jpeg:https://artscouncilofprinceton.org/wp-content/uploads/2025/05/wheelthrowing.jpg
END:VEVENT
BEGIN:VEVENT
DTSTART;TZID=America/New_York:20260212T180000
DTEND;TZID=America/New_York:20260212T203000
DTSTAMP:20260422T233130
CREATED:20251216T175958Z
LAST-MODIFIED:20260122T223216Z
UID:10002466-1770919200-1770928200@artscouncilofprinceton.org
SUMMARY:ACP BYOB: Carve Your Heart Out | Linocut Printmaking
DESCRIPTION:DIY your own scented hand lotion. Have you ever turned over a bottle of lotion and wondered what all those ingredients actually do — or mean? In this immersive\, hands-on workshop\, Kaya Selfcare brings the lab to you. You’ll leave with a 4oz bottle of lotion you made yourself\, the science to understand what’s in it\, and the knowledge to shop smarter for your skin. What you’ll learn: The lotion making process from raw ingredients to finished product — step by step\, with your own handsUnderstand the role of every ingredient — oils\, waters\, emulsifiers\, and more — and why each one mattersExplore emulsions\, pH balance\, and how stability and preservation keep your lotion safe and effectivePersonalize your creation by learning how to formulate your own unique fragrance with essential oilsWalk away with practical guidance on how and when to use lotion — and how to read labels like a proThis workshop is designed for everyone — no prior experience required. Whether you’re a skincare enthusiast\, a curious beginner\, or someone who simply wants to feel more informed about the products they use every day\, you’ll find this session practical\, empowering\, and a lot of fun. 								\n				\n										\n						\n									SAVE YOUR SPOT
URL:https://artscouncilofprinceton.org/event/acp-byob-carve-your-heart-out-linocut-printmaking/
LOCATION:Arts Council of Princeton\, Princeton\, NJ
CATEGORIES:Workshops
ATTACH;FMTTYPE=image/webp:https://artscouncilofprinceton.org/wp-content/uploads/2025/12/linocut.webp
END:VEVENT
BEGIN:VEVENT
DTSTART;TZID=America/New_York:20260212T200000
DTEND;TZID=America/New_York:20260212T210000
DTSTAMP:20260422T233130
CREATED:20260122T164423Z
LAST-MODIFIED:20260122T164423Z
UID:10002493-1770926400-1770930000@artscouncilofprinceton.org
SUMMARY:Free Virtual Art Making with Princeton University: Colored Pencils
DESCRIPTION:DIY your own scented hand lotion. Have you ever turned over a bottle of lotion and wondered what all those ingredients actually do — or mean? In this immersive\, hands-on workshop\, Kaya Selfcare brings the lab to you. You’ll leave with a 4oz bottle of lotion you made yourself\, the science to understand what’s in it\, and the knowledge to shop smarter for your skin. What you’ll learn: The lotion making process from raw ingredients to finished product — step by step\, with your own handsUnderstand the role of every ingredient — oils\, waters\, emulsifiers\, and more — and why each one mattersExplore emulsions\, pH balance\, and how stability and preservation keep your lotion safe and effectivePersonalize your creation by learning how to formulate your own unique fragrance with essential oilsWalk away with practical guidance on how and when to use lotion — and how to read labels like a proThis workshop is designed for everyone — no prior experience required. Whether you’re a skincare enthusiast\, a curious beginner\, or someone who simply wants to feel more informed about the products they use every day\, you’ll find this session practical\, empowering\, and a lot of fun. 								\n				\n										\n						\n									SAVE YOUR SPOT
URL:https://artscouncilofprinceton.org/event/free-virtual-art-making-with-princeton-university-feb26-2/
LOCATION:Arts Council of Princeton\, Princeton\, NJ
CATEGORIES:Free or Low Cost,Workshops
ATTACH;FMTTYPE=image/webp:https://artscouncilofprinceton.org/wp-content/uploads/2026/01/default-1.webp
END:VEVENT
BEGIN:VEVENT
DTSTART;TZID=America/New_York:20260217T183000
DTEND;TZID=America/New_York:20260217T200000
DTSTAMP:20260422T233130
CREATED:20251229T151411Z
LAST-MODIFIED:20251229T151411Z
UID:10002477-1771353000-1771358400@artscouncilofprinceton.org
SUMMARY:ACP BYOB: Hand-Rolled Beeswax Candles
DESCRIPTION:DIY your own scented hand lotion. Have you ever turned over a bottle of lotion and wondered what all those ingredients actually do — or mean? In this immersive\, hands-on workshop\, Kaya Selfcare brings the lab to you. You’ll leave with a 4oz bottle of lotion you made yourself\, the science to understand what’s in it\, and the knowledge to shop smarter for your skin. What you’ll learn: The lotion making process from raw ingredients to finished product — step by step\, with your own handsUnderstand the role of every ingredient — oils\, waters\, emulsifiers\, and more — and why each one mattersExplore emulsions\, pH balance\, and how stability and preservation keep your lotion safe and effectivePersonalize your creation by learning how to formulate your own unique fragrance with essential oilsWalk away with practical guidance on how and when to use lotion — and how to read labels like a proThis workshop is designed for everyone — no prior experience required. Whether you’re a skincare enthusiast\, a curious beginner\, or someone who simply wants to feel more informed about the products they use every day\, you’ll find this session practical\, empowering\, and a lot of fun. 								\n				\n										\n						\n									SAVE YOUR SPOT
URL:https://artscouncilofprinceton.org/event/acp-byob-hand-rolled-beeswax-candles/
LOCATION:Arts Council of Princeton\, Princeton\, NJ
CATEGORIES:Workshops
ATTACH;FMTTYPE=image/jpeg:https://artscouncilofprinceton.org/wp-content/uploads/2025/12/https___cdn.evbuc_.com_images_1173453780_198751743064_1_original.jpg
END:VEVENT
BEGIN:VEVENT
DTSTART;TZID=America/New_York:20260219T200000
DTEND;TZID=America/New_York:20260219T210000
DTSTAMP:20260422T233130
CREATED:20260122T164902Z
LAST-MODIFIED:20260122T164902Z
UID:10002494-1771531200-1771534800@artscouncilofprinceton.org
SUMMARY:Free Virtual Art Making with Princeton University: Colored Pencils
DESCRIPTION:DIY your own scented hand lotion. Have you ever turned over a bottle of lotion and wondered what all those ingredients actually do — or mean? In this immersive\, hands-on workshop\, Kaya Selfcare brings the lab to you. You’ll leave with a 4oz bottle of lotion you made yourself\, the science to understand what’s in it\, and the knowledge to shop smarter for your skin. What you’ll learn: The lotion making process from raw ingredients to finished product — step by step\, with your own handsUnderstand the role of every ingredient — oils\, waters\, emulsifiers\, and more — and why each one mattersExplore emulsions\, pH balance\, and how stability and preservation keep your lotion safe and effectivePersonalize your creation by learning how to formulate your own unique fragrance with essential oilsWalk away with practical guidance on how and when to use lotion — and how to read labels like a proThis workshop is designed for everyone — no prior experience required. Whether you’re a skincare enthusiast\, a curious beginner\, or someone who simply wants to feel more informed about the products they use every day\, you’ll find this session practical\, empowering\, and a lot of fun. 								\n				\n										\n						\n									SAVE YOUR SPOT
URL:https://artscouncilofprinceton.org/event/free-virtual-art-making-with-princeton-university-feb26-3/
LOCATION:Arts Council of Princeton\, Princeton\, NJ
CATEGORIES:Free or Low Cost,Workshops
ATTACH;FMTTYPE=image/webp:https://artscouncilofprinceton.org/wp-content/uploads/2026/01/default-2.webp
END:VEVENT
BEGIN:VEVENT
DTSTART;TZID=America/New_York:20260226T200000
DTEND;TZID=America/New_York:20260226T210000
DTSTAMP:20260422T233130
CREATED:20260122T165124Z
LAST-MODIFIED:20260122T165124Z
UID:10002495-1772136000-1772139600@artscouncilofprinceton.org
SUMMARY:Free Virtual Art Making with Princeton University: Colored Pencils
DESCRIPTION:DIY your own scented hand lotion. Have you ever turned over a bottle of lotion and wondered what all those ingredients actually do — or mean? In this immersive\, hands-on workshop\, Kaya Selfcare brings the lab to you. You’ll leave with a 4oz bottle of lotion you made yourself\, the science to understand what’s in it\, and the knowledge to shop smarter for your skin. What you’ll learn: The lotion making process from raw ingredients to finished product — step by step\, with your own handsUnderstand the role of every ingredient — oils\, waters\, emulsifiers\, and more — and why each one mattersExplore emulsions\, pH balance\, and how stability and preservation keep your lotion safe and effectivePersonalize your creation by learning how to formulate your own unique fragrance with essential oilsWalk away with practical guidance on how and when to use lotion — and how to read labels like a proThis workshop is designed for everyone — no prior experience required. Whether you’re a skincare enthusiast\, a curious beginner\, or someone who simply wants to feel more informed about the products they use every day\, you’ll find this session practical\, empowering\, and a lot of fun. 								\n				\n										\n						\n									SAVE YOUR SPOT
URL:https://artscouncilofprinceton.org/event/free-virtual-art-making-with-princeton-university-feb26-4/
LOCATION:Arts Council of Princeton\, Princeton\, NJ
CATEGORIES:Free or Low Cost,Workshops
ATTACH;FMTTYPE=image/webp:https://artscouncilofprinceton.org/wp-content/uploads/2026/01/default-3.webp
END:VEVENT
END:VCALENDAR