BEGIN:VCALENDAR
VERSION:2.0
PRODID:-//Arts Council of Princeton - ECPv6.15.18//NONSGML v1.0//EN
CALSCALE:GREGORIAN
METHOD:PUBLISH
X-WR-CALNAME:Arts Council of Princeton
X-ORIGINAL-URL:https://artscouncilofprinceton.org
X-WR-CALDESC:Events for Arts Council of Princeton
REFRESH-INTERVAL;VALUE=DURATION:PT1H
X-Robots-Tag:noindex
X-PUBLISHED-TTL:PT1H
BEGIN:VTIMEZONE
TZID:America/New_York
BEGIN:DAYLIGHT
TZOFFSETFROM:-0500
TZOFFSETTO:-0400
TZNAME:EDT
DTSTART:20250309T070000
END:DAYLIGHT
BEGIN:STANDARD
TZOFFSETFROM:-0400
TZOFFSETTO:-0500
TZNAME:EST
DTSTART:20251102T060000
END:STANDARD
BEGIN:DAYLIGHT
TZOFFSETFROM:-0500
TZOFFSETTO:-0400
TZNAME:EDT
DTSTART:20260308T070000
END:DAYLIGHT
BEGIN:STANDARD
TZOFFSETFROM:-0400
TZOFFSETTO:-0500
TZNAME:EST
DTSTART:20261101T060000
END:STANDARD
BEGIN:DAYLIGHT
TZOFFSETFROM:-0500
TZOFFSETTO:-0400
TZNAME:EDT
DTSTART:20270314T070000
END:DAYLIGHT
BEGIN:STANDARD
TZOFFSETFROM:-0400
TZOFFSETTO:-0500
TZNAME:EST
DTSTART:20271107T060000
END:STANDARD
END:VTIMEZONE
BEGIN:VEVENT
DTSTART;TZID=America/New_York:20260128T190000
DTEND;TZID=America/New_York:20260128T210000
DTSTAMP:20260421T125845
CREATED:20240124T180146Z
LAST-MODIFIED:20260121T152226Z
UID:10001233-1769626800-1769634000@artscouncilofprinceton.org
SUMMARY:Jersey Art Meetup (JAM)
DESCRIPTION:Reconnect with a calmer\, more intentional way of living. In this thoughtful and inspiring workshop\, Patricia Diesel invites participants to pause\, reflect\, and explore what it truly means to live with greater clarity and ease. Through guided insights and practical tools\, attendees will learn how to release what feels heavy\, simplify their surroundings and mindset\, and reconnect with what matters most. This experience offers a refreshing perspective on letting go\, trusting yourself\, and moving forward with a lighter heart. 								\n				\n										\n						\n									tickets\n					\n					\n								\n				\n							\n			\n						\n		\n						\n				\n									About Patricia Diesel My journey began over 20 years ago as a professional organizer\, driven by a deep passion for helping others bring order to their lives. As I evolved into a coach\, I began guiding clients not only in organizing their physical spaces but also in untangling the emotional and mental burdens that often accompany disorder. Specializing in hoarding and chronic disorganization\, I’ve witnessed how simplicity unlocks a profound sense of inner peace. Today\, I continue to empower individuals to release what holds them back\, guiding them toward clarity\, purpose\, and balance. Every person’s journey is unique\, and I am honored to walk alongside them in their transformation. 								\n					\n				\n		\n					\n				\n							\n			\n						\n		\n						\n					\n				\n		\n					\n				\n				\n							\n					\n					\n						\n					\n			\n						\n					THANK YOU TO OUR GENEROUS SERIES SPONSORS				\n				\n							\n			\n		\n						\n				\n					VISIONARY				\n				\n																\n															\n															\n				\n							\n			\n		\n						\n				\n					MUSE				\n				\n					TAMARA FRANKLIN				\n				\n							\n			\n		\n						\n				\n					PATRICK DE MAYNADIER				\n				\n							\n			\n		\n						\n				\n					MARYELLEN MCQUADE & DAVID CHUNG				\n				\n							\n			\n		\n						\n				\n					LYDIA & JOHAN PFEIFFER				\n				\n							\n			\n		\n						\n				\n					DEVOTEE				\n				\n					KOOKIE JOHNSON & TOM SHEERAN    |    LYNNE & JOE KOSSOWANDREA & CHRISTOPHER MECRAY  |  JAMIE PHARESNINA & EDWARD STELMAKH  |  KAREN & TOM WILKINSON
URL:https://artscouncilofprinceton.org/event/jam/2026-01-28/
LOCATION:Arts Council of Princeton\, Princeton\, NJ
CATEGORIES:Community,Free or Low Cost
ATTACH;FMTTYPE=image/webp:https://artscouncilofprinceton.org/wp-content/uploads/2024/01/COMICMAKERS_JAMBANNER-e1718819987740-copy.webp
END:VEVENT
BEGIN:VEVENT
DTSTART;TZID=America/New_York:20260127T183000
DTEND;TZID=America/New_York:20260127T200000
DTSTAMP:20260421T125845
CREATED:20251124T192341Z
LAST-MODIFIED:20260127T145154Z
UID:10002421-1769538600-1769544000@artscouncilofprinceton.org
SUMMARY:PRINCETON CRIT | Small Group Critique
DESCRIPTION:Reconnect with a calmer\, more intentional way of living. In this thoughtful and inspiring workshop\, Patricia Diesel invites participants to pause\, reflect\, and explore what it truly means to live with greater clarity and ease. Through guided insights and practical tools\, attendees will learn how to release what feels heavy\, simplify their surroundings and mindset\, and reconnect with what matters most. This experience offers a refreshing perspective on letting go\, trusting yourself\, and moving forward with a lighter heart. 								\n				\n										\n						\n									tickets\n					\n					\n								\n				\n							\n			\n						\n		\n						\n				\n									About Patricia Diesel My journey began over 20 years ago as a professional organizer\, driven by a deep passion for helping others bring order to their lives. As I evolved into a coach\, I began guiding clients not only in organizing their physical spaces but also in untangling the emotional and mental burdens that often accompany disorder. Specializing in hoarding and chronic disorganization\, I’ve witnessed how simplicity unlocks a profound sense of inner peace. Today\, I continue to empower individuals to release what holds them back\, guiding them toward clarity\, purpose\, and balance. Every person’s journey is unique\, and I am honored to walk alongside them in their transformation. 								\n					\n				\n		\n					\n				\n							\n			\n						\n		\n						\n					\n				\n		\n					\n				\n				\n							\n					\n					\n						\n					\n			\n						\n					THANK YOU TO OUR GENEROUS SERIES SPONSORS				\n				\n							\n			\n		\n						\n				\n					VISIONARY				\n				\n																\n															\n															\n				\n							\n			\n		\n						\n				\n					MUSE				\n				\n					TAMARA FRANKLIN				\n				\n							\n			\n		\n						\n				\n					PATRICK DE MAYNADIER				\n				\n							\n			\n		\n						\n				\n					MARYELLEN MCQUADE & DAVID CHUNG				\n				\n							\n			\n		\n						\n				\n					LYDIA & JOHAN PFEIFFER				\n				\n							\n			\n		\n						\n				\n					DEVOTEE				\n				\n					KOOKIE JOHNSON & TOM SHEERAN    |    LYNNE & JOE KOSSOWANDREA & CHRISTOPHER MECRAY  |  JAMIE PHARESNINA & EDWARD STELMAKH  |  KAREN & TOM WILKINSON
URL:https://artscouncilofprinceton.org/event/princeton-crit-small-group-critique/
LOCATION:Arts Council of Princeton\, Princeton\, NJ
CATEGORIES:Community,Events & Performances,Free or Low Cost
ATTACH;FMTTYPE=image/jpeg:https://artscouncilofprinceton.org/wp-content/uploads/2025/11/https___cdn.evbuc_.com_images_1171433315_198273465393_1_original.jpg
END:VEVENT
BEGIN:VEVENT
DTSTART;TZID=America/New_York:20260124T190000
DTEND;TZID=America/New_York:20260124T220000
DTSTAMP:20260421T125845
CREATED:20250528T203820Z
LAST-MODIFIED:20250911T200912Z
UID:10002213-1769281200-1769292000@artscouncilofprinceton.org
SUMMARY:Café Improv
DESCRIPTION:Reconnect with a calmer\, more intentional way of living. In this thoughtful and inspiring workshop\, Patricia Diesel invites participants to pause\, reflect\, and explore what it truly means to live with greater clarity and ease. Through guided insights and practical tools\, attendees will learn how to release what feels heavy\, simplify their surroundings and mindset\, and reconnect with what matters most. This experience offers a refreshing perspective on letting go\, trusting yourself\, and moving forward with a lighter heart. 								\n				\n										\n						\n									tickets\n					\n					\n								\n				\n							\n			\n						\n		\n						\n				\n									About Patricia Diesel My journey began over 20 years ago as a professional organizer\, driven by a deep passion for helping others bring order to their lives. As I evolved into a coach\, I began guiding clients not only in organizing their physical spaces but also in untangling the emotional and mental burdens that often accompany disorder. Specializing in hoarding and chronic disorganization\, I’ve witnessed how simplicity unlocks a profound sense of inner peace. Today\, I continue to empower individuals to release what holds them back\, guiding them toward clarity\, purpose\, and balance. Every person’s journey is unique\, and I am honored to walk alongside them in their transformation. 								\n					\n				\n		\n					\n				\n							\n			\n						\n		\n						\n					\n				\n		\n					\n				\n				\n							\n					\n					\n						\n					\n			\n						\n					THANK YOU TO OUR GENEROUS SERIES SPONSORS				\n				\n							\n			\n		\n						\n				\n					VISIONARY				\n				\n																\n															\n															\n				\n							\n			\n		\n						\n				\n					MUSE				\n				\n					TAMARA FRANKLIN				\n				\n							\n			\n		\n						\n				\n					PATRICK DE MAYNADIER				\n				\n							\n			\n		\n						\n				\n					MARYELLEN MCQUADE & DAVID CHUNG				\n				\n							\n			\n		\n						\n				\n					LYDIA & JOHAN PFEIFFER				\n				\n							\n			\n		\n						\n				\n					DEVOTEE				\n				\n					KOOKIE JOHNSON & TOM SHEERAN    |    LYNNE & JOE KOSSOWANDREA & CHRISTOPHER MECRAY  |  JAMIE PHARESNINA & EDWARD STELMAKH  |  KAREN & TOM WILKINSON
URL:https://artscouncilofprinceton.org/event/monthly-cafe-improv-open-mic/2026-01-24/
LOCATION:Solley Theater – Arts Council of Princeton\, Princeton\, NJ
CATEGORIES:Events & Performances,Free or Low Cost
ATTACH;FMTTYPE=image/jpeg:https://artscouncilofprinceton.org/wp-content/uploads/2025/05/9330769.jpg
END:VEVENT
BEGIN:VEVENT
DTSTART;TZID=America/New_York:20260122T180000
DTEND;TZID=America/New_York:20260122T200000
DTSTAMP:20260421T125845
CREATED:20251215T215231Z
LAST-MODIFIED:20260115T182903Z
UID:10002465-1769104800-1769112000@artscouncilofprinceton.org
SUMMARY:Reading + Discussion: The Bedroom Gap by Dr. Maria Sophocles
DESCRIPTION:Reconnect with a calmer\, more intentional way of living. In this thoughtful and inspiring workshop\, Patricia Diesel invites participants to pause\, reflect\, and explore what it truly means to live with greater clarity and ease. Through guided insights and practical tools\, attendees will learn how to release what feels heavy\, simplify their surroundings and mindset\, and reconnect with what matters most. This experience offers a refreshing perspective on letting go\, trusting yourself\, and moving forward with a lighter heart. 								\n				\n										\n						\n									tickets\n					\n					\n								\n				\n							\n			\n						\n		\n						\n				\n									About Patricia Diesel My journey began over 20 years ago as a professional organizer\, driven by a deep passion for helping others bring order to their lives. As I evolved into a coach\, I began guiding clients not only in organizing their physical spaces but also in untangling the emotional and mental burdens that often accompany disorder. Specializing in hoarding and chronic disorganization\, I’ve witnessed how simplicity unlocks a profound sense of inner peace. Today\, I continue to empower individuals to release what holds them back\, guiding them toward clarity\, purpose\, and balance. Every person’s journey is unique\, and I am honored to walk alongside them in their transformation. 								\n					\n				\n		\n					\n				\n							\n			\n						\n		\n						\n					\n				\n		\n					\n				\n				\n							\n					\n					\n						\n					\n			\n						\n					THANK YOU TO OUR GENEROUS SERIES SPONSORS				\n				\n							\n			\n		\n						\n				\n					VISIONARY				\n				\n																\n															\n															\n				\n							\n			\n		\n						\n				\n					MUSE				\n				\n					TAMARA FRANKLIN				\n				\n							\n			\n		\n						\n				\n					PATRICK DE MAYNADIER				\n				\n							\n			\n		\n						\n				\n					MARYELLEN MCQUADE & DAVID CHUNG				\n				\n							\n			\n		\n						\n				\n					LYDIA & JOHAN PFEIFFER				\n				\n							\n			\n		\n						\n				\n					DEVOTEE				\n				\n					KOOKIE JOHNSON & TOM SHEERAN    |    LYNNE & JOE KOSSOWANDREA & CHRISTOPHER MECRAY  |  JAMIE PHARESNINA & EDWARD STELMAKH  |  KAREN & TOM WILKINSON
URL:https://artscouncilofprinceton.org/event/reading-the-bedroom-gap-by-dr-maria-sophocles/
LOCATION:Arts Council of Princeton\, Princeton\, NJ
CATEGORIES:Community,Events & Performances,Free or Low Cost
ATTACH;FMTTYPE=image/jpeg:https://artscouncilofprinceton.org/wp-content/uploads/2025/12/https___cdn.evbuc_.com_images_1173002411_198273465393_1_original.jpg
END:VEVENT
BEGIN:VEVENT
DTSTART;TZID=America/New_York:20260121T190000
DTEND;TZID=America/New_York:20260121T210000
DTSTAMP:20260421T125845
CREATED:20240124T180146Z
LAST-MODIFIED:20260121T152226Z
UID:10001232-1769022000-1769029200@artscouncilofprinceton.org
SUMMARY:Jersey Art Meetup (JAM)
DESCRIPTION:Reconnect with a calmer\, more intentional way of living. In this thoughtful and inspiring workshop\, Patricia Diesel invites participants to pause\, reflect\, and explore what it truly means to live with greater clarity and ease. Through guided insights and practical tools\, attendees will learn how to release what feels heavy\, simplify their surroundings and mindset\, and reconnect with what matters most. This experience offers a refreshing perspective on letting go\, trusting yourself\, and moving forward with a lighter heart. 								\n				\n										\n						\n									tickets\n					\n					\n								\n				\n							\n			\n						\n		\n						\n				\n									About Patricia Diesel My journey began over 20 years ago as a professional organizer\, driven by a deep passion for helping others bring order to their lives. As I evolved into a coach\, I began guiding clients not only in organizing their physical spaces but also in untangling the emotional and mental burdens that often accompany disorder. Specializing in hoarding and chronic disorganization\, I’ve witnessed how simplicity unlocks a profound sense of inner peace. Today\, I continue to empower individuals to release what holds them back\, guiding them toward clarity\, purpose\, and balance. Every person’s journey is unique\, and I am honored to walk alongside them in their transformation. 								\n					\n				\n		\n					\n				\n							\n			\n						\n		\n						\n					\n				\n		\n					\n				\n				\n							\n					\n					\n						\n					\n			\n						\n					THANK YOU TO OUR GENEROUS SERIES SPONSORS				\n				\n							\n			\n		\n						\n				\n					VISIONARY				\n				\n																\n															\n															\n				\n							\n			\n		\n						\n				\n					MUSE				\n				\n					TAMARA FRANKLIN				\n				\n							\n			\n		\n						\n				\n					PATRICK DE MAYNADIER				\n				\n							\n			\n		\n						\n				\n					MARYELLEN MCQUADE & DAVID CHUNG				\n				\n							\n			\n		\n						\n				\n					LYDIA & JOHAN PFEIFFER				\n				\n							\n			\n		\n						\n				\n					DEVOTEE				\n				\n					KOOKIE JOHNSON & TOM SHEERAN    |    LYNNE & JOE KOSSOWANDREA & CHRISTOPHER MECRAY  |  JAMIE PHARESNINA & EDWARD STELMAKH  |  KAREN & TOM WILKINSON
URL:https://artscouncilofprinceton.org/event/jam/2026-01-21/
LOCATION:Arts Council of Princeton\, Princeton\, NJ
CATEGORIES:Community,Free or Low Cost
ATTACH;FMTTYPE=image/webp:https://artscouncilofprinceton.org/wp-content/uploads/2024/01/COMICMAKERS_JAMBANNER-e1718819987740-copy.webp
END:VEVENT
BEGIN:VEVENT
DTSTART;VALUE=DATE:20260110
DTEND;VALUE=DATE:20260208
DTSTAMP:20260421T125845
CREATED:20251205T211213Z
LAST-MODIFIED:20251212T144341Z
UID:10002442-1768003200-1770508799@artscouncilofprinceton.org
SUMMARY:Hands Talk
DESCRIPTION:Reconnect with a calmer\, more intentional way of living. In this thoughtful and inspiring workshop\, Patricia Diesel invites participants to pause\, reflect\, and explore what it truly means to live with greater clarity and ease. Through guided insights and practical tools\, attendees will learn how to release what feels heavy\, simplify their surroundings and mindset\, and reconnect with what matters most. This experience offers a refreshing perspective on letting go\, trusting yourself\, and moving forward with a lighter heart. 								\n				\n										\n						\n									tickets\n					\n					\n								\n				\n							\n			\n						\n		\n						\n				\n									About Patricia Diesel My journey began over 20 years ago as a professional organizer\, driven by a deep passion for helping others bring order to their lives. As I evolved into a coach\, I began guiding clients not only in organizing their physical spaces but also in untangling the emotional and mental burdens that often accompany disorder. Specializing in hoarding and chronic disorganization\, I’ve witnessed how simplicity unlocks a profound sense of inner peace. Today\, I continue to empower individuals to release what holds them back\, guiding them toward clarity\, purpose\, and balance. Every person’s journey is unique\, and I am honored to walk alongside them in their transformation. 								\n					\n				\n		\n					\n				\n							\n			\n						\n		\n						\n					\n				\n		\n					\n				\n				\n							\n					\n					\n						\n					\n			\n						\n					THANK YOU TO OUR GENEROUS SERIES SPONSORS				\n				\n							\n			\n		\n						\n				\n					VISIONARY				\n				\n																\n															\n															\n				\n							\n			\n		\n						\n				\n					MUSE				\n				\n					TAMARA FRANKLIN				\n				\n							\n			\n		\n						\n				\n					PATRICK DE MAYNADIER				\n				\n							\n			\n		\n						\n				\n					MARYELLEN MCQUADE & DAVID CHUNG				\n				\n							\n			\n		\n						\n				\n					LYDIA & JOHAN PFEIFFER				\n				\n							\n			\n		\n						\n				\n					DEVOTEE				\n				\n					KOOKIE JOHNSON & TOM SHEERAN    |    LYNNE & JOE KOSSOWANDREA & CHRISTOPHER MECRAY  |  JAMIE PHARESNINA & EDWARD STELMAKH  |  KAREN & TOM WILKINSON
URL:https://artscouncilofprinceton.org/event/hands-talk/
LOCATION:Lower Level Gallery
CATEGORIES:Exhibitions,Free or Low Cost,Opening Receptions
ATTACH;FMTTYPE=image/webp:https://artscouncilofprinceton.org/wp-content/uploads/2025/12/hands_talk-1.webp
END:VEVENT
BEGIN:VEVENT
DTSTART;VALUE=DATE:20260110
DTEND;VALUE=DATE:20260208
DTSTAMP:20260421T125845
CREATED:20251205T205910Z
LAST-MODIFIED:20251222T190739Z
UID:10002440-1768003200-1770508799@artscouncilofprinceton.org
SUMMARY:Art for Change
DESCRIPTION:Reconnect with a calmer\, more intentional way of living. In this thoughtful and inspiring workshop\, Patricia Diesel invites participants to pause\, reflect\, and explore what it truly means to live with greater clarity and ease. Through guided insights and practical tools\, attendees will learn how to release what feels heavy\, simplify their surroundings and mindset\, and reconnect with what matters most. This experience offers a refreshing perspective on letting go\, trusting yourself\, and moving forward with a lighter heart. 								\n				\n										\n						\n									tickets\n					\n					\n								\n				\n							\n			\n						\n		\n						\n				\n									About Patricia Diesel My journey began over 20 years ago as a professional organizer\, driven by a deep passion for helping others bring order to their lives. As I evolved into a coach\, I began guiding clients not only in organizing their physical spaces but also in untangling the emotional and mental burdens that often accompany disorder. Specializing in hoarding and chronic disorganization\, I’ve witnessed how simplicity unlocks a profound sense of inner peace. Today\, I continue to empower individuals to release what holds them back\, guiding them toward clarity\, purpose\, and balance. Every person’s journey is unique\, and I am honored to walk alongside them in their transformation. 								\n					\n				\n		\n					\n				\n							\n			\n						\n		\n						\n					\n				\n		\n					\n				\n				\n							\n					\n					\n						\n					\n			\n						\n					THANK YOU TO OUR GENEROUS SERIES SPONSORS				\n				\n							\n			\n		\n						\n				\n					VISIONARY				\n				\n																\n															\n															\n				\n							\n			\n		\n						\n				\n					MUSE				\n				\n					TAMARA FRANKLIN				\n				\n							\n			\n		\n						\n				\n					PATRICK DE MAYNADIER				\n				\n							\n			\n		\n						\n				\n					MARYELLEN MCQUADE & DAVID CHUNG				\n				\n							\n			\n		\n						\n				\n					LYDIA & JOHAN PFEIFFER				\n				\n							\n			\n		\n						\n				\n					DEVOTEE				\n				\n					KOOKIE JOHNSON & TOM SHEERAN    |    LYNNE & JOE KOSSOWANDREA & CHRISTOPHER MECRAY  |  JAMIE PHARESNINA & EDWARD STELMAKH  |  KAREN & TOM WILKINSON
URL:https://artscouncilofprinceton.org/event/art-for-change/
LOCATION:Arts Council of Princeton\, Princeton\, NJ
CATEGORIES:Exhibitions,Free or Low Cost,Opening Receptions
ATTACH;FMTTYPE=image/webp:https://artscouncilofprinceton.org/wp-content/uploads/2025/12/artforchange.webp
END:VEVENT
BEGIN:VEVENT
DTSTART;VALUE=DATE:20260110
DTEND;VALUE=DATE:20260208
DTSTAMP:20260421T125845
CREATED:20251205T204236Z
LAST-MODIFIED:20251218T152439Z
UID:10002438-1768003200-1770508799@artscouncilofprinceton.org
SUMMARY:Divergent Forms
DESCRIPTION:Reconnect with a calmer\, more intentional way of living. In this thoughtful and inspiring workshop\, Patricia Diesel invites participants to pause\, reflect\, and explore what it truly means to live with greater clarity and ease. Through guided insights and practical tools\, attendees will learn how to release what feels heavy\, simplify their surroundings and mindset\, and reconnect with what matters most. This experience offers a refreshing perspective on letting go\, trusting yourself\, and moving forward with a lighter heart. 								\n				\n										\n						\n									tickets\n					\n					\n								\n				\n							\n			\n						\n		\n						\n				\n									About Patricia Diesel My journey began over 20 years ago as a professional organizer\, driven by a deep passion for helping others bring order to their lives. As I evolved into a coach\, I began guiding clients not only in organizing their physical spaces but also in untangling the emotional and mental burdens that often accompany disorder. Specializing in hoarding and chronic disorganization\, I’ve witnessed how simplicity unlocks a profound sense of inner peace. Today\, I continue to empower individuals to release what holds them back\, guiding them toward clarity\, purpose\, and balance. Every person’s journey is unique\, and I am honored to walk alongside them in their transformation. 								\n					\n				\n		\n					\n				\n							\n			\n						\n		\n						\n					\n				\n		\n					\n				\n				\n							\n					\n					\n						\n					\n			\n						\n					THANK YOU TO OUR GENEROUS SERIES SPONSORS				\n				\n							\n			\n		\n						\n				\n					VISIONARY				\n				\n																\n															\n															\n				\n							\n			\n		\n						\n				\n					MUSE				\n				\n					TAMARA FRANKLIN				\n				\n							\n			\n		\n						\n				\n					PATRICK DE MAYNADIER				\n				\n							\n			\n		\n						\n				\n					MARYELLEN MCQUADE & DAVID CHUNG				\n				\n							\n			\n		\n						\n				\n					LYDIA & JOHAN PFEIFFER				\n				\n							\n			\n		\n						\n				\n					DEVOTEE				\n				\n					KOOKIE JOHNSON & TOM SHEERAN    |    LYNNE & JOE KOSSOWANDREA & CHRISTOPHER MECRAY  |  JAMIE PHARESNINA & EDWARD STELMAKH  |  KAREN & TOM WILKINSON
URL:https://artscouncilofprinceton.org/event/divergent-forms/
LOCATION:Taplin Gallery – Arts Council of Princeton\, Princeton\, NJ
CATEGORIES:Exhibitions,Free or Low Cost,Taplin Gallery
ATTACH;FMTTYPE=image/webp:https://artscouncilofprinceton.org/wp-content/uploads/2025/12/divergent_forms_header.webp
END:VEVENT
END:VCALENDAR