BEGIN:VCALENDAR
VERSION:2.0
PRODID:-//Arts Council of Princeton - ECPv6.15.18//NONSGML v1.0//EN
CALSCALE:GREGORIAN
METHOD:PUBLISH
X-WR-CALNAME:Arts Council of Princeton
X-ORIGINAL-URL:https://artscouncilofprinceton.org
X-WR-CALDESC:Events for Arts Council of Princeton
REFRESH-INTERVAL;VALUE=DURATION:PT1H
X-Robots-Tag:noindex
X-PUBLISHED-TTL:PT1H
BEGIN:VTIMEZONE
TZID:America/New_York
BEGIN:DAYLIGHT
TZOFFSETFROM:-0500
TZOFFSETTO:-0400
TZNAME:EDT
DTSTART:20250309T070000
END:DAYLIGHT
BEGIN:STANDARD
TZOFFSETFROM:-0400
TZOFFSETTO:-0500
TZNAME:EST
DTSTART:20251102T060000
END:STANDARD
BEGIN:DAYLIGHT
TZOFFSETFROM:-0500
TZOFFSETTO:-0400
TZNAME:EDT
DTSTART:20260308T070000
END:DAYLIGHT
BEGIN:STANDARD
TZOFFSETFROM:-0400
TZOFFSETTO:-0500
TZNAME:EST
DTSTART:20261101T060000
END:STANDARD
BEGIN:DAYLIGHT
TZOFFSETFROM:-0500
TZOFFSETTO:-0400
TZNAME:EDT
DTSTART:20270314T070000
END:DAYLIGHT
BEGIN:STANDARD
TZOFFSETFROM:-0400
TZOFFSETTO:-0500
TZNAME:EST
DTSTART:20271107T060000
END:STANDARD
END:VTIMEZONE
BEGIN:VEVENT
DTSTART;TZID=America/New_York:20260605T183000
DTEND;TZID=America/New_York:20260605T210000
DTSTAMP:20260422T010846
CREATED:20260417T132320Z
LAST-MODIFIED:20260417T132612Z
UID:50073-1780684200-1780693200@artscouncilofprinceton.org
SUMMARY:Pride on the Plaza
DESCRIPTION:Now in its sixth year\, this Pride celebration has become a beloved annual event for the Princeton community\, bringing together the library and community partners for a collaborative gathering centered on inclusion and connection\, where everyone belongs and everyone is accepted. \nThis all-ages dance party features music\, color and community spirit\, with an electrifying mix curated by DJ Darius the First. The festivities include a special appearance by drag artist Gym Da Hollow\, a marketplace showcasing local makers\, and a variety of activities for all ages. Indoor space in the Community Room will be available for those who wish to relax and connect. \nAll are welcome to attend and participate. \nCo-sponsored by the library\, Arts Council of Princeton\, Center for Modern Aging Princeton\, HiTOPS\, McCarter Theatre Center\, the Municipality of Princeton and Princeton Gender + Sexuality Resource Center. \n 
URL:https://artscouncilofprinceton.org/event/pride-on-the-plaza/
LOCATION:Princeton Public Library\, 65 Witherspoon Street\, Princeton\, 08542\, United States
CATEGORIES:Community,Free or Low Cost
ATTACH;FMTTYPE=image/png:https://artscouncilofprinceton.org/wp-content/uploads/2026/04/Pride-Princeton-Dance-Party.png
END:VEVENT
END:VCALENDAR